BEGIN:VCALENDAR
VERSION:2.0
PRODID:-//ChamberMaster//Event Calendar 2.0//EN
METHOD:PUBLISH
X-PUBLISHED-TTL:P1H
REFRESH-INTERVAL:P1H
CALSCALE:GREGORIAN
BEGIN:VTIMEZONE
TZID:America/Los_Angeles
BEGIN:DAYLIGHT
RRULE:FREQ=YEARLY;BYMONTH=3;BYDAY=2SU
DTSTART:20070101T000000
TZOFFSETFROM:-0800
TZOFFSETTO:-0700
TZNAME:Pacific Daylight Time
END:DAYLIGHT
BEGIN:STANDARD
RRULE:FREQ=YEARLY;BYMONTH=11;BYDAY=1SU
DTSTART:20070101T000000
TZOFFSETFROM:-0700
TZOFFSETTO:-0800
TZNAME:Pacific Standard Time
END:STANDARD
END:VTIMEZONE
BEGIN:VEVENT
DTSTART;VALUE=DATE:20260523
DTEND;VALUE=DATE:20260525
TRANSP:TRANSPARENT
X-MICROSOFT-CDO-ALLDAYEVENT:TRUE
SUMMARY:Catfish Derby - John Day River
DESCRIPTION:Gorge Outfitters hosts the annual Rufus\, Catfish Derby\nRegistration FormDerby Rules\nhttps://www.facebook.com/gorgeoutfitterssupply
X-ALT-DESC;FMTTYPE=text/html:<!DOCTYPE html><html><head><title></title></head><body aria-disabled="false"><p>Gorge Outfitters hosts the annual Rufus\, Catfish Derby</p><p><br></p><p><a fr-original-style="" href="https://drive.google.com/file/d/1Fh5ZAYjcl3T-CHjycRoDqsMeasN9RCT8/view?usp=drive_link" rel="noopener noreferrer" style="user-select: auto\;" target="_blank">Registration Form</a></p><p><a fr-original-style="" href="https://drive.google.com/file/d/1zZYYil1nX7-w0eX576hXB5rqeh1dpjyl/view?usp=drive_link" rel="noopener noreferrer" style="user-select: auto\;" target="_blank">Derby Rules</a></p><p><br></p><p><a fr-original-style="" href="https://www.facebook.com/gorgeoutfitterssupply" style="user-select: auto\;">https://www.facebook.com/gorgeoutfitterssupply</a></p></body></html>
LOCATION:102 East 1st Street Rufus OR 97050
UID:e.2144.1442949
SEQUENCE:3
DTSTAMP:20260421T142522Z
URL:https://condonchamberofcommerce.growthzoneapp.com/community-calendar/Details/catfish-derby-john-day-river-1709038?sourceTypeId=Hub
END:VEVENT
END:VCALENDAR
