BEGIN:VCALENDAR
VERSION:2.0
PRODID:-//ChamberMaster//Event Calendar 2.0//EN
METHOD:PUBLISH
X-PUBLISHED-TTL:P1H
REFRESH-INTERVAL:P1H
CALSCALE:GREGORIAN
BEGIN:VTIMEZONE
TZID:America/Los_Angeles
BEGIN:DAYLIGHT
RRULE:FREQ=YEARLY;BYMONTH=3;BYDAY=2SU
DTSTART:20070101T000000
TZOFFSETFROM:-0800
TZOFFSETTO:-0700
TZNAME:Pacific Daylight Time
END:DAYLIGHT
BEGIN:STANDARD
RRULE:FREQ=YEARLY;BYMONTH=11;BYDAY=1SU
DTSTART:20070101T000000
TZOFFSETFROM:-0700
TZOFFSETTO:-0800
TZNAME:Pacific Standard Time
END:STANDARD
END:VTIMEZONE
BEGIN:VEVENT
DTSTART;VALUE=DATE:20260522
DTEND;VALUE=DATE:20260525
TRANSP:TRANSPARENT
X-MICROSOFT-CDO-ALLDAYEVENT:TRUE
SUMMARY:Spray Rodeo & Half Marathon
DESCRIPTION:Experience the thrill of the Wild West at the Spray Rodeo! Held annually in the charming town of Spray\, Oregon\, this exciting event showcases the skills of top rodeo athletes in a picturesque setting. From bull riding to barrel racing\, the Spray Rodeo offers heart-pounding action and family-friendly entertainment for all ages. Don't miss the chance to witness the excitement firsthand and immerse yourself in the rich heritage of the American West at the Spray Rodeo!Check out their WEBSITE for more information. Register for Half Marathon/ 5K & 10K HERE
X-ALT-DESC;FMTTYPE=text/html:<!DOCTYPE html><html><head><title></title></head><body aria-disabled="false"><p>Experience the thrill of the Wild West at the Spray Rodeo! Held annually in the charming town of Spray\, Oregon\, this exciting event showcases the skills of top rodeo athletes in a picturesque setting. From bull riding to barrel racing\, the Spray Rodeo offers heart-pounding action and family-friendly entertainment for all ages. Don&#39\;t miss the chance to witness the excitement firsthand and immerse yourself in the rich heritage of the American West at the Spray Rodeo!</p><p>Check out their <span style="color: rgb(41\, 105\, 176)\;"><a fr-original-style="" href="https://sprayrodeo.com/?fbclid=IwY2xjawIlq3lleHRuA2FlbQIxMAABHU9OMAtKk-ZqjK2wzmfHbpvPrU14EvIUdbxpFPTV0Izkq_BSr1hluhgFWw_aem_ntktN6zDw_C9KKysMwNPig" rel="noopener noreferrer" style="user-select: auto\; color: inherit\;" target="_blank">WEBSITE</a></span> for more information.&nbsp\;</p><p>Register for Half Marathon/ 5K &amp\; 10K <a fr-original-style="" href="https://runsignup.com/Race/OR/Spray/easternoregonhalfmarathon?rsus=100-200-d8f17307-a502-44bd-aa67-5576ff34b383" rel="noopener noreferrer" style="user-select: auto\;" target="_blank"><span style="color: rgb(41\, 105\, 176)\;">HERE</span></a></p><p><br></p><p><br></p></body></html>
LOCATION:Spray OR 97874
UID:e.2144.1359402
SEQUENCE:3
DTSTAMP:20260421T142415Z
URL:https://condonchamberofcommerce.growthzoneapp.com/community-calendar/Details/spray-rodeo-half-marathon-1600909?sourceTypeId=Hub
END:VEVENT
END:VCALENDAR
